BEGIN:VCALENDAR
VERSION:2.0
PRODID:-//ChamberMaster//Event Calendar 2.0//EN
METHOD:PUBLISH
X-PUBLISHED-TTL:P3D
REFRESH-INTERVAL:P3D
CALSCALE:GREGORIAN
BEGIN:VEVENT
DTSTART:20281018T160000Z
DTEND:20281018T170000Z
X-MICROSOFT-CDO-ALLDAYEVENT:FALSE
SUMMARY:DCE Committee Meeting
DESCRIPTION:
X-ALT-DESC;FMTTYPE=text/html:
LOCATION:
UID:e.1457.17867
SEQUENCE:3
DTSTAMP:20260425T113431Z
URL:https://business.tigardchamber.org/events/details/dei-committee-meeting-10-18-2028-17867
END:VEVENT

END:VCALENDAR
