BEGIN:VCALENDAR
VERSION:2.0
PRODID:-//ChamberMaster//Event Calendar 2.0//EN
METHOD:PUBLISH
X-PUBLISHED-TTL:P3D
REFRESH-INTERVAL:P3D
CALSCALE:GREGORIAN
BEGIN:VEVENT
DTSTART:20230519T200000Z
DTEND:20230520T020000Z
X-MICROSOFT-CDO-ALLDAYEVENT:FALSE
SUMMARY:Grand Opening-Ribbon Cutting hosted by Foxy Allure Aesthetics
DESCRIPTION:Foxy Allure Aesthetics\n\nGrand Opening-Ribbon Cutting\n\n           &\n\nOne Year Anniversary Celebration\n\nPlease join us as we celebrate our new location inside Washington Square Mall. Grand opening party to follow after ribbon cutting. Giveaways\, Free B12 shots\, Champagne\, Appetizers & More RSVP with Melissa at 541-778-5048
X-ALT-DESC;FMTTYPE=text/html:<br />\nFoxy Allure Aesthetics<br />\nGrand Opening-Ribbon Cutting<br />\n&nbsp\; &nbsp\; &nbsp\; &nbsp\; &nbsp\; &nbsp\;&amp\;<br />\nOne Year Anniversary Celebration<br />\nPlease join us as we celebrate our new location inside Washington Square Mall. Grand opening party to follow after ribbon cutting. Giveaways\, Free B12 shots\, Champagne\, Appetizers &amp\; More RSVP with Melissa at 541-778-5048
LOCATION:Foxy Allure Aesthetics Inside Washington Square Mall next to Cheesecake Factory 9395 SE Washington Square Rd. Tigard\, OR 97223
UID:e.1457.17783
SEQUENCE:3
DTSTAMP:20260420T025810Z
URL:https://business.tigardchamber.org/events/details/grand-opening-ribbon-cutting-hosted-by-foxy-allure-aesthetics-17783
END:VEVENT

END:VCALENDAR
