BEGIN:VCALENDAR
VERSION:2.0
PRODID:-//ChamberMaster//Event Calendar 2.0//EN
METHOD:PUBLISH
X-PUBLISHED-TTL:P3D
REFRESH-INTERVAL:P3D
CALSCALE:GREGORIAN
BEGIN:VEVENT
DTSTART;VALUE=DATE:20260430
DTEND;VALUE=DATE:20260501
TRANSP:TRANSPARENT
X-MICROSOFT-CDO-ALLDAYEVENT:TRUE
SUMMARY:No Good Morning Tigard this week. See you tomorrow at Shining Stars!
DESCRIPTION:No GMT Today. See you tomorrow for our 52nd Annual Tigard Shining Stars Community Awards Celebration Ticketed Event!
X-ALT-DESC;FMTTYPE=text/html:No GMT Today. See you tomorrow for our 52nd Annual Tigard Shining Stars Community Awards Celebration Ticketed Event!&nbsp\;
LOCATION:
UID:e.1457.19321
SEQUENCE:3
DTSTAMP:20260421T205553Z
URL:https://business.tigardchamber.org/events/details/no-good-morning-tigard-this-week-see-you-tomorrow-at-shining-stars-19321
END:VEVENT

END:VCALENDAR
